BEGIN:VCALENDAR
VERSION:2.0
PRODID:-//ChamberMaster//Event Calendar 2.0//EN
METHOD:PUBLISH
X-PUBLISHED-TTL:P3D
REFRESH-INTERVAL:P3D
CALSCALE:GREGORIAN
BEGIN:VEVENT
DTSTART;VALUE=DATE:20221112
DTEND;VALUE=DATE:20221205
TRANSP:TRANSPARENT
X-MICROSOFT-CDO-ALLDAYEVENT:TRUE
SUMMARY:2022 Vesta Home Show
DESCRIPTION:Looking for inspiration for your next home project?\n\n\n\nDon't miss the Vesta Home Show at Belfair in Collierville!\n\nExplore five luxury home that combine form and function and redefine excellence in architectural design and construction. Scaled to meet the needs of today's modern family\, these exceptional homes are built of the finest materials and feature top-of-the-line appliances\, customized fabrics and furnishings\, unique outdoor living areas\, and smart-home technologies.\n\n\n\nFOR TICKETS\, CLICK THE REGISTER BUTTON. Your tickets will be sent to the email address you enter.
X-ALT-DESC;FMTTYPE=text/html:<div class="fl-col-group fl-node-sl62mgkfeq59" data-node="sl62mgkfeq59" style="box-sizing: border-box\; color: rgb(85\, 85\, 85)\; font-family: Helvetica\, Verdana\, Arial\, sans-serif\; font-size: 16px\; background-color: rgba(255\, 255\, 255\, 0.71)\;"><br />\n<span style="font-family:arial\;"><span style="font-size:20px\;"><em><strong><span style="font-size:24px\;">Looking for inspiration for your next home project?</span></strong></em><br />\n<br />\n<strong>Don&#39\;t miss the Vesta Home Show at Belfair in Collierville!</strong></span><br />\n<span style="font-size:18px\;">Explore five luxury home that combine form and function and redefine excellence in&nbsp\;architectural&nbsp\;design and construction. Scaled to meet the needs of today&#39\;s modern family\, these exceptional homes are built of the finest materials and feature top-of-the-line appliances\, customized fabrics and furnishings\, unique outdoor living areas\, and smart-home technologies.<br />\n<br />\n<span style="color:#000000\;"><strong>FOR TICKETS\, CLICK THE REGISTER&nbsp\;BUTTON. Your tickets will be sent to the email address you enter.</strong></span></span></span></div>\n
LOCATION:The 2022 Vesta Home Show is located in Belfair in Collierville. The only entrance to the show is located on Collierville-Arlington Road\, just north of Shelton Road. Parking is free.
UID:e.9424.3682
SEQUENCE:3
DTSTAMP:20260421T234911Z
URL:https://builders.westtnhba.com/events/details/2022-vesta-home-show-3682
END:VEVENT

END:VCALENDAR
