BEGIN:VCALENDAR
VERSION:2.0
PRODID:-//ChamberMaster//Event Calendar 2.0//EN
METHOD:PUBLISH
X-PUBLISHED-TTL:P3D
REFRESH-INTERVAL:P3D
CALSCALE:GREGORIAN
BEGIN:VEVENT
DTSTART:20240321T143000Z
DTEND:20240322T043000Z
X-MICROSOFT-CDO-ALLDAYEVENT:FALSE
SUMMARY:2024 Dine & Design: A Forecast of Home Design Trends
DESCRIPTION:Join the West TN Chapter of Professional Women in Building for an enlightening breakfast. Discover what colors\, decorating styles\, materials\, and technologies our panel of experts predict to be huge in the coming year.\n\nThis year's panel includes 2024 Vesta Home Show designers!
X-ALT-DESC;FMTTYPE=text/html:<div class="m8h3af8h l7ghb35v kjdc1dyq kmwttqpk gh25dzvf" style="overflow-wrap: break-word\; margin: 0px\; font-family: system-ui\, -apple-system\, &quot\;system-ui&quot\;\, &quot\;.SFNSText-Regular&quot\;\, sans-serif\; color: rgb(5\, 5\, 5)\; font-size: 15px\;"><span style="font-size:20px\;">Join the West TN Chapter of Professional Women in Building for an enlightening breakfast. Discover what colors\, decorating styles\, materials\, and technologies our panel of experts predict to be huge in the coming year.</span></div>\n\n<div class="l7ghb35v kjdc1dyq kmwttqpk gh25dzvf jikcssrz" style="overflow-wrap: break-word\; margin: 0.5em 0px 0px\; font-family: system-ui\, -apple-system\, &quot\;system-ui&quot\;\, &quot\;.SFNSText-Regular&quot\;\, sans-serif\; color: rgb(5\, 5\, 5)\; font-size: 15px\;"><span style="font-size:20px\;">This year&#39\;s panel includes 2024&nbsp\;Vesta Home Show designers!</span></div>\n
LOCATION:Ridgeway Country Club 9800 Poplar Ave Germantown\, TN 38139
UID:e.9424.4334
SEQUENCE:3
DTSTAMP:20260424T004825Z
URL:https://builders.westtnhba.com/events/details/2024-dine-design-a-forecast-of-home-design-trends-4334
END:VEVENT

END:VCALENDAR
