BEGIN:VCALENDAR
VERSION:2.0
PRODID:-//ChamberMaster//Event Calendar 2.0//EN
METHOD:PUBLISH
X-PUBLISHED-TTL:P3D
REFRESH-INTERVAL:P3D
CALSCALE:GREGORIAN
BEGIN:VEVENT
DTSTART:20250325T143000Z
DTEND:20250326T043000Z
X-MICROSOFT-CDO-ALLDAYEVENT:FALSE
SUMMARY:2025 Dine & Design: A Forecast of Home Design Trends
DESCRIPTION:Join the West TN chapter of Professional Women in Building Council for an enlightening breakfast Q&A panel. Discover what colors\, decorating styles\, materials\, and technologies our panel of experts predict to be hugely popular in the coming year. This year's panel features designers included in the 2025 Spring Vesta Home Shows!\n\n \n\nPresented by America's Floor Source
X-ALT-DESC;FMTTYPE=text/html:<div class="m8h3af8h l7ghb35v kjdc1dyq kmwttqpk gh25dzvf" style="overflow-wrap: break-word\; margin: 0px\; font-family: system-ui\, -apple-system\, &quot\;system-ui&quot\;\, &quot\;.SFNSText-Regular&quot\;\, sans-serif\; color: rgb(5\, 5\, 5)\; font-size: 15px\;"><span style="font-family: Arial\, Verdana\, Helvetica\, sans-serif\; text-align: center\; white-space-collapse: preserve\; font-size: 15px\; color: rgb(5\, 5\, 5)\;">Join the West TN chapter of Professional Women in Building Council for an enlightening breakfast Q&amp\;A panel. Discover what colors\, decorating styles\, materials\, and technologies our panel of experts predict to be hugely popular in the coming year. </span><span style="font-family: Arial\, Verdana\, Helvetica\, sans-serif\; text-align: center\; white-space-collapse: preserve\; font-size: 14px\; color: rgb(5\, 5\, 5)\;">This year&#39\;s panel features designers included in the 2025 Spring Vesta Home Shows!</span></div>\n\n<p class="m8h3af8h l7ghb35v kjdc1dyq kmwttqpk gh25dzvf" style="overflow-wrap: break-word\; margin: 0px\; font-family: system-ui\, -apple-system\, &quot\;system-ui&quot\;\, &quot\;.SFNSText-Regular&quot\;\, sans-serif\; color: rgb(5\, 5\, 5)\; font-size: 15px\;">&nbsp\;</p>\n\n<p class="l7ghb35v kjdc1dyq kmwttqpk gh25dzvf jikcssrz" style="overflow-wrap: break-word\; margin: 0.5em 0px 0px\; font-family: system-ui\, -apple-system\, &quot\;system-ui&quot\;\, &quot\;.SFNSText-Regular&quot\;\, sans-serif\; color: rgb(5\, 5\, 5)\; font-size: 15px\;"><span style="font-size:20px\;"><span style="font-family:arial\;">Presented by America&#39\;s Floor Source</span></span></p>\n
LOCATION:Ridgeway Country Club 9800 Poplar Ave Germantown\, TN 38139
UID:e.9424.4451
SEQUENCE:3
DTSTAMP:20260423T082127Z
URL:https://builders.westtnhba.com/events/details/2025-dine-design-a-forecast-of-home-design-trends-4451
END:VEVENT

END:VCALENDAR
